BEGIN:VCALENDAR
VERSION:2.0
PRODID:SchoolNow
CALSCALE:GREGORIAN
BEGIN:VEVENT
UID:92119580-76b6-11ef-9a71-0a58a9feac02
DTSTAMP:20250505T144202Z
SUMMARY:CDD Board Meeting - May 2025 - Cancelled
LOCATION:District Office 313 Campus Street Celebration\, Florida 34747
URL;VALUE=URI:https://www.enterprisecdd.org/calendar/6642872/cdd-board-meet
 ing-may-2025
DTSTART:20250507T143000Z
DTEND:20250507T153000Z
END:VEVENT
END:VCALENDAR
