BEGIN:VCALENDAR
VERSION:2.0
PRODID:SchoolNow
CALSCALE:GREGORIAN
BEGIN:VEVENT
UID:9d29bc22-76b6-11ef-9868-024138c77827
DTSTAMP:20250515T160925Z
SUMMARY:CDD Board Meeting - Jun. 2025 - Cancelled
LOCATION:District Office 313 Campus Street Celebration\, Florida 34747
URL;VALUE=URI:https://www.enterprisecdd.org/calendar/6642873/cdd-board-meet
 ing-jun-2025-cancelled
DTSTART:20250604T143000Z
DTEND:20250604T153000Z
END:VEVENT
END:VCALENDAR
