BEGIN:VCALENDAR
VERSION:2.0
PRODID:SchoolNow
CALSCALE:GREGORIAN
BEGIN:VEVENT
UID:a9b4ee4e-76b6-11ef-a389-0a58a9feac02
DTSTAMP:20250629T194251Z
SUMMARY:CDD Board Meeting - Jul. 2025 - Cancelled
LOCATION:District Office 313 Campus Street Celebration\, Florida 34747
URL;VALUE=URI:https://www.enterprisecdd.org/calendar/6642874/cdd-board-meet
 ing-jul-2025
DTSTART:20250709T143000Z
DTEND:20250709T153000Z
END:VEVENT
END:VCALENDAR
