BEGIN:VCALENDAR
VERSION:2.0
PRODID:SchoolNow
CALSCALE:GREGORIAN
BEGIN:VEVENT
UID:b3fed9be-76b6-11ef-8dcc-024138c77827
DTSTAMP:20250515T160900Z
SUMMARY:CDD Board Meeting - Aug. 2025 - Cancelled
LOCATION:District Office 313 Campus Street Celebration\, Florida 34747
URL;VALUE=URI:https://www.enterprisecdd.org/calendar/6642875/cdd-board-meet
 ing-aug-2025-cancelled
DTSTART:20250806T143000Z
DTEND:20250806T153000Z
END:VEVENT
END:VCALENDAR
