BEGIN:VCALENDAR
VERSION:2.0
PRODID:SchoolNow
CALSCALE:GREGORIAN
BEGIN:VEVENT
UID:bdcf7192-76b6-11ef-b3cd-0a58a9feac02
DTSTAMP:20250829T202258Z
SUMMARY:CDD Board Meeting - Sept. 2025
LOCATION:District Office 313 Campus Street Celebration\, Florida 34747
URL;VALUE=URI:https://www.enterprisecdd.org/calendar/6642877/cdd-board-meet
 ing-sept-2025
DTSTART:20250903T143000Z
DTEND:20250903T153000Z
ATTACH;FILENAME=2025-09-03 Enterprise CDD Agenda Package.pdf;FMTTYPE=applic
 ation/pdf:https://campussuite-storage.s3.amazonaws.com/prod/1559114/453070
 fe-a609-11ec-8f71-025f1701d46f/3001484/efbda28c-8515-11f0-a03c-022f0e0ac79
 3/file/2025-09-03 Enterprise CDD Agenda Package.pdf
END:VEVENT
END:VCALENDAR
