BEGIN:VCALENDAR
VERSION:2.0
PRODID:SchoolNow
CALSCALE:GREGORIAN
BEGIN:VEVENT
UID:e1ae7850-31a6-11f0-adfb-0e36b02d9e09
DTSTAMP:20250814T095453Z
SUMMARY:CDD Board Meeting - Aug. 2025 (Rescheduled)
LOCATION:District Office 313 Campus Street Celebration\, Florida 34747
URL;VALUE=URI:https://www.enterprisecdd.org/calendar/8140319/cdd-board-meet
 ing-aug-2025
DTSTART:20250820T143000Z
DTEND:20250820T153000Z
ATTACH;FILENAME=2025-08-13 Agenda.pdf;FMTTYPE=application/pdf:https://campu
 ssuite-storage.s3.amazonaws.com/prod/1559114/453070fe-a609-11ec-8f71-025f1
 701d46f/2990125/c313440c-743b-11f0-9e54-0a58a9feac02/file/2025-08-13 Agend
 a.pdf
END:VEVENT
END:VCALENDAR
