BEGIN:VCALENDAR
VERSION:2.0
PRODID:SchoolNow
CALSCALE:GREGORIAN
BEGIN:VEVENT
UID:f31e87ba-31a6-11f0-9bde-0a58a9feac02
DTSTAMP:20250605T094439Z
SUMMARY:CDD Board Meeting - Jun. 2025
LOCATION:District Office 313 Campus Street Celebration\, Florida 34747
URL;VALUE=URI:https://www.enterprisecdd.org/calendar/8140320/cdd-board-meet
 ing-jun-2025
DTSTART:20250611T143000Z
DTEND:20250611T153000Z
ATTACH;FILENAME=2025-06-11 agenda package.pdf;FMTTYPE=application/pdf:https
 ://campussuite-storage.s3.amazonaws.com/prod/1559114/453070fe-a609-11ec-8f
 71-025f1701d46f/2964698/ad68022c-41f1-11f0-98d3-0a58a9feac02/file/2025-06-
 11 agenda package.pdf
END:VEVENT
END:VCALENDAR
