BEGIN:VCALENDAR
VERSION:2.0
PRODID:SchoolNow
CALSCALE:GREGORIAN
BEGIN:VEVENT
UID:e34f5fa0-989c-11f0-835d-0a58a9feac02
DTSTAMP:20250926T191045Z
SUMMARY:CDD Board Meeting - Oct. 2025 - Cancelled
LOCATION:District Office 313 Campus Street Celebration\, Florida 34747
URL;VALUE=URI:https://www.enterprisecdd.org/calendar/8656843/cdd-board-meet
 ing-oct-2025
DTSTART:20251001T143000Z
DTEND:20251001T153000Z
END:VEVENT
END:VCALENDAR
