BEGIN:VCALENDAR
VERSION:2.0
PRODID:SchoolNow
CALSCALE:GREGORIAN
BEGIN:VEVENT
UID:eabf4912-989c-11f0-9de3-0a58a9feac02
DTSTAMP:20251030T175029Z
SUMMARY:CDD Board Meeting - Nov. 2025
LOCATION:District Office 313 Campus Street Celebration\, Florida 34747
URL;VALUE=URI:https://www.enterprisecdd.org/calendar/8656844/cdd-board-meet
 ing-nov-2025
DTSTART:20251105T153000Z
DTEND:20251105T163000Z
ATTACH;FILENAME=2025-11-05 Enterprise Agenda Package.pdf;FMTTYPE=applicatio
 n/pdf:https://campussuite-storage.s3.amazonaws.com/prod/1559114/453070fe-a
 609-11ec-8f71-025f1701d46f/3029190/e9bc1566-b5b8-11f0-9ff8-0a58a9feac02/fi
 le/2025-11-05 Enterprise Agenda Package.pdf
END:VEVENT
END:VCALENDAR
