BEGIN:VCALENDAR
VERSION:2.0
PRODID:SchoolNow
CALSCALE:GREGORIAN
BEGIN:VEVENT
UID:f1dfeaf8-989c-11f0-8b06-0a58a9feac02
DTSTAMP:20251201T215325Z
SUMMARY:CDD Board Meeting - Dec. 2025
LOCATION:District Office 313 Campus Street Celebration\, Florida 34747
URL;VALUE=URI:https://www.enterprisecdd.org/calendar/8656845/cdd-board-meet
 ing-dec-2025
DTSTART:20251203T153000Z
DTEND:20251203T163000Z
ATTACH;FILENAME=2025-12-03 Enterprise CDD Agenda Package.pdf;FMTTYPE=applic
 ation/pdf:https://campussuite-storage.s3.amazonaws.com/prod/1559114/453070
 fe-a609-11ec-8f71-025f1701d46f/3045173/26ba83e8-cf00-11f0-aae9-0e23de79efa
 b/file/2025-12-03 Enterprise CDD Agenda Package.pdf
END:VEVENT
END:VCALENDAR
