BEGIN:VCALENDAR
VERSION:2.0
PRODID:SchoolNow
CALSCALE:GREGORIAN
BEGIN:VEVENT
UID:1b8d4378-989d-11f0-b6db-0a58a9feac02
DTSTAMP:20250923T164818Z
SUMMARY:CDD Board Meeting - May 2026
LOCATION:District Office 313 Campus Street Celebration\, Florida 34747
URL;VALUE=URI:https://www.enterprisecdd.org/calendar/8656850/cdd-board-meet
 ing-may-2026
DTSTART:20260506T143000Z
DTEND:20260506T153000Z
END:VEVENT
END:VCALENDAR
