BEGIN:VCALENDAR
VERSION:2.0
PRODID:SchoolNow
CALSCALE:GREGORIAN
BEGIN:VEVENT
UID:360680d4-989d-11f0-b0b8-0256aee05833
DTSTAMP:20250923T164903Z
SUMMARY:CDD Board Meeting - Aug. 2026
LOCATION:District Office 313 Campus Street Celebration\, Florida 34747
URL;VALUE=URI:https://www.enterprisecdd.org/calendar/8656853/cdd-board-meet
 ing-aug-2026
DTSTART:20260805T143000Z
DTEND:20260805T153000Z
END:VEVENT
END:VCALENDAR
