BEGIN:VCALENDAR
VERSION:2.0
PRODID:SchoolNow
CALSCALE:GREGORIAN
BEGIN:VEVENT
UID:3e0d785a-989d-11f0-aa9f-0a58a9feac02
DTSTAMP:20250923T164916Z
SUMMARY:CDD Board Meeting - Sept. 2026
LOCATION:District Office 313 Campus Street Celebration\, Florida 34747
URL;VALUE=URI:https://www.enterprisecdd.org/calendar/8656854/cdd-board-meet
 ing-sept-2026
DTSTART:20260902T143000Z
DTEND:20260902T153000Z
END:VEVENT
END:VCALENDAR
